BEGIN:VCALENDAR
VERSION:2.0
PRODID:-//Urban Milwaukee - ECPv4.6.9//NONSGML v1.0//EN
CALSCALE:GREGORIAN
METHOD:PUBLISH
X-WR-CALNAME:Urban Milwaukee
X-ORIGINAL-URL:https://urbanmilwaukee.com
X-WR-CALDESC:Events for Urban Milwaukee
BEGIN:VEVENT
DTSTART;TZID=America/Chicago:20171020T180000
DTEND;TZID=America/Chicago:20171020T210000
DTSTAMP:20260423T174429
CREATED:20171006T172753Z
LAST-MODIFIED:20171006T172753Z
UID:377852-1508522400-1508533200@urbanmilwaukee.com
SUMMARY:Artisan Market
DESCRIPTION:Join us as The Iron Horse Hotel hosts our annual Artisan Market in The Yard. Come browse some of Milwaukee’s finest handmade goods and get a jump start on your holiday shopping. Vendors will be offering a variety of unique gifts\, ranging from candles to handmade leather items. Warm up with hot-and-boozy drink specials and menu offerings from The Yard\, ensuring a picture-perfect fall day. \n
URL:https://urbanmilwaukee.com/event/artisan-market/
LOCATION:500 W. Florida St.\, Milwaukee\, WI\, 53204\, United States
CATEGORIES:Food & Drink
ATTACH;FMTTYPE=image/png:https://urbanmilwaukee.com/wp-content/uploads/2017/10/Screen-Shot-2017-10-04-at-4.33.30-PM.png
END:VEVENT
END:VCALENDAR