BEGIN:VCALENDAR
VERSION:2.0
PRODID:-//Urban Milwaukee - ECPv4.6.9//NONSGML v1.0//EN
CALSCALE:GREGORIAN
METHOD:PUBLISH
X-WR-CALNAME:Urban Milwaukee
X-ORIGINAL-URL:https://urbanmilwaukee.com
X-WR-CALDESC:Events for Urban Milwaukee
BEGIN:VEVENT
DTSTART;TZID=America/Chicago:20200104T100000
DTEND;TZID=America/Chicago:20200104T120000
DTSTAMP:20260422T134737
CREATED:20191227T033642Z
LAST-MODIFIED:20191227T033642Z
UID:492059-1578132000-1578139200@urbanmilwaukee.com
SUMMARY:Art Jam with the Krazines
DESCRIPTION:Make some art to start your 2020. The Krazines welcome everyone to join them at Wustum Museum for art-making and creative writing fun. Our theme to jump-start your imagination will be Dreams & Visions. We’ll provide coffee and treats. Bring your favorite art and writing supplies. Your work will be printed in our full-color\, professionally-produced zine and you’ll receive a copy. $5.00 to help with our printing costs. All talent levels welcome. If you have questions about our events\, write to us at info@krazines.com. \nKrazines Facebook event: https://www.facebook.com/events/596642361073313/ \n
URL:https://urbanmilwaukee.com/event/art-jam-with-the-krazines/
LOCATION:2519 Northwestern Ave\, Racine\, WI\, 53404\, United States
CATEGORIES:Arts & Entertainment
ATTACH;FMTTYPE=image/jpeg:https://urbanmilwaukee.com/wp-content/uploads/2019/12/Art-Jam-with-the-Krazines.jpg
END:VEVENT
END:VCALENDAR