BEGIN:VCALENDAR
VERSION:2.0
PRODID:-//Urban Milwaukee - ECPv4.6.9//NONSGML v1.0//EN
CALSCALE:GREGORIAN
METHOD:PUBLISH
X-WR-CALNAME:Urban Milwaukee
X-ORIGINAL-URL:https://urbanmilwaukee.com
X-WR-CALDESC:Events for Urban Milwaukee
BEGIN:VEVENT
DTSTART;TZID=America/Chicago:20170318T170000
DTEND;TZID=America/Chicago:20170318T190000
DTSTAMP:20260419T132756
CREATED:20160825T044901Z
LAST-MODIFIED:20160825T044925Z
UID:180319-1489856400-1489863600@urbanmilwaukee.com
SUMMARY:Apollo's Fire: "Sugarloaf Mountain"
DESCRIPTION:Early Music Now presents Apollo’s Fire. Eight musicians from this award-winning ensemble’s collection of creative artists bring voices\, hammered dulcimer\, harpsichord\, fiddle\, wooden flutes\, lute\, guitar\, banjo\, and cello to recreate “An Appalachian Gathering” – music with roots in the British Isles that long ago mingled with Southern hymns and African spirituals in the hills of Virginia. \n
URL:https://urbanmilwaukee.com/event/apollos-fire-sugarloaf-mountain/
CATEGORIES:Arts & Entertainment
ATTACH;FMTTYPE=image/jpeg:https://urbanmilwaukee.com/wp-content/uploads/2016/08/Apollos-Fire-8.jpg
END:VEVENT
END:VCALENDAR