BEGIN:VCALENDAR
VERSION:2.0
PRODID:-//Urban Milwaukee - ECPv4.6.9//NONSGML v1.0//EN
CALSCALE:GREGORIAN
METHOD:PUBLISH
X-WR-CALNAME:Urban Milwaukee
X-ORIGINAL-URL:https://urbanmilwaukee.com
X-WR-CALDESC:Events for Urban Milwaukee
BEGIN:VEVENT
DTSTART;TZID=America/Chicago:20251019T140000
DTEND;TZID=America/Chicago:20251019T153000
DTSTAMP:20260424T000950
CREATED:20251009T204143Z
LAST-MODIFIED:20251009T204143Z
UID:907570-1760882400-1760887800@urbanmilwaukee.com
SUMMARY:Aperi Animam Presents Metus
DESCRIPTION:Join us for a spine-chilling musical experience as spooky season begins. Metus—Latin for “agitation” or “fear”—will take you on a sonically eerie journey through repertoire that explores discomfort\, frightening creatures\, and even the confrontation of death itself. Free parking is available at the Lincoln Center for the Arts. \nUnder the direction of Dr. Paul Thompson\, the professional vocal early music ensemble Aperi Animam has quickly drawn the attention of early music enthusiasts and organizations across the United States. From its founding in 2017 by performer-scholar Daniel Koplitz (dir. 2017–21)\, Aperi Animam has been praised for its ensemble precision\, full-throated vocals\, emotional expressivity\, and innovative programming. \n
URL:https://urbanmilwaukee.com/event/aperi-animam-presents-metus/
LOCATION:818 E Juneau Ave\, Milwaukee\, WI\, 53202\, United States
CATEGORIES:Arts & Entertainment
ATTACH;FMTTYPE=image/png:https://urbanmilwaukee.com/wp-content/uploads/2025/10/M-E-T-U-S.png
END:VEVENT
END:VCALENDAR