BEGIN:VCALENDAR
VERSION:2.0
PRODID:-//Urban Milwaukee - ECPv4.6.9//NONSGML v1.0//EN
CALSCALE:GREGORIAN
METHOD:PUBLISH
X-WR-CALNAME:Urban Milwaukee
X-ORIGINAL-URL:https://urbanmilwaukee.com
X-WR-CALDESC:Events for Urban Milwaukee
BEGIN:VEVENT
DTSTART;TZID=America/Chicago:20191225T120000
DTEND;TZID=America/Chicago:20191225T160000
DTSTAMP:20260423T022714
CREATED:20191204T134445Z
LAST-MODIFIED:20191204T134445Z
UID:481775-1577275200-1577289600@urbanmilwaukee.com
SUMMARY:Annual Christmas Cinema: Houdini
DESCRIPTION:Looking for something fun to do Christmas Day? Come to Jewish Museum Milwaukee to enjoy Houdini\, the 1953 biopic starring then husband-and-wife Tony Curtis and Janet Leigh as Harry and Bess Houdini. \nThe film’s storyline is a fictionalized account of Houdini’s life. It details his beginnings as a locksmith\, up through his international success as a world-renowned escape artist and stage magician. Following the death of his mother\, he exposes various fraudulent Mediums in the spiritualist movement\, while always hoping to make contact with her. The film also follows his love for his wife Bess Houdini and his most dangerous stunts and stage illusions. \nFilm Synopsis\nWhile working as a Coney Island entertainer\, Harry Houdini (Tony Curtis) meets and falls madly in love with Bess (Janet Leigh). The two quickly marry\, and with her at his side\, the magician begins his rise to fame as the world’s greatest escape artist and magician. But as the escapes get more and more dangerous\, Bess worries that Harry may be taking his act too far. This biographical look at the life of Houdini takes several liberties with the facts\, including how the magician actually died. \nWe will begin screening the film at 1:00 pm and should end before 3:00 p.m.\, giving you enough time to view permanent and special exhibits before or after the film. \nRegular Museum Admission Applies | Members FREE \n
URL:https://urbanmilwaukee.com/event/annual-christmas-cinema-houdini/
LOCATION:1360 N. Prospect Ave.\, Milwaukee\, WI\, 53202\, United States
CATEGORIES:Arts & Entertainment
ATTACH;FMTTYPE=image/jpeg:https://urbanmilwaukee.com/wp-content/uploads/2019/10/220px-Houdini_1953_movie_poster.jpg
END:VEVENT
END:VCALENDAR