BEGIN:VCALENDAR
VERSION:2.0
PRODID:-//Urban Milwaukee - ECPv4.6.9//NONSGML v1.0//EN
CALSCALE:GREGORIAN
METHOD:PUBLISH
X-WR-CALNAME:Urban Milwaukee
X-ORIGINAL-URL:https://urbanmilwaukee.com
X-WR-CALDESC:Events for Urban Milwaukee
BEGIN:VEVENT
DTSTART;TZID=America/Chicago:20230210T150000
DTEND;TZID=America/Chicago:20230210T170000
DTSTAMP:20260422T221144
CREATED:20230127T063824Z
LAST-MODIFIED:20230127T063824Z
UID:700877-1676041200-1676048400@urbanmilwaukee.com
SUMMARY:Anne M. Coughlin on Overturning Roe V Wade
DESCRIPTION:The University of Wisconsin Milwaukee’s philosophy department is welcoming Professor Anne M. Coughlin of the University of Virginia School of Law to discuss the issues of overturning Roe V. Wade and debating the Dobbs Case. The lecture will take place in Curtin Hall 175\, and will run from 3 p.m. to 5:30 p.m. \n
URL:https://urbanmilwaukee.com/event/anne-m-coughlin-on-overturning-roe-v-wade/
LOCATION:3243 N. Downer Ave.\, Milwaukee\, 53211\, United States
CATEGORIES:Politics
ATTACH;FMTTYPE=image/jpeg:https://urbanmilwaukee.com/wp-content/uploads/2023/01/Anne-Coughlin-scaled.jpg
END:VEVENT
END:VCALENDAR