BEGIN:VCALENDAR
VERSION:2.0
PRODID:-//Urban Milwaukee - ECPv4.6.9//NONSGML v1.0//EN
CALSCALE:GREGORIAN
METHOD:PUBLISH
X-WR-CALNAME:Urban Milwaukee
X-ORIGINAL-URL:https://urbanmilwaukee.com
X-WR-CALDESC:Events for Urban Milwaukee
BEGIN:VEVENT
DTSTART;TZID=America/Chicago:20230211T190000
DTEND;TZID=America/Chicago:20230211T210000
DTSTAMP:20260423T164336
CREATED:20230211T071029Z
LAST-MODIFIED:20230211T071029Z
UID:702967-1676142000-1676149200@urbanmilwaukee.com
SUMMARY:Ana Vidovic at Sharon Lynne Center for the Arts
DESCRIPTION:Join the Sharon Lynne Center for the Arts for an evening of live music featuring classical guitarist Ana Vidovic. \nAna Vidovic began her international performing career at the age of eleven and has since become one of the most recognizable names in classical guitar. She is an extraordinary talent with formidable gifts taking her place amongst the elite musicians of the world today. Known for her beautiful tone\, precise technique\, well-defined phrasing and thoughtful artistry and musicianship. We thrilled she will be joining us in partnership with Milwaukee Classical Guitar Society. \n
URL:https://urbanmilwaukee.com/event/ana-vidovic-at-sharon-lynne-center-for-the-arts/
LOCATION:19805 W. Capitol Dr.\, Brookfield\, WI\, 53045\, United States
CATEGORIES:Arts & Entertainment
ATTACH;FMTTYPE=image/jpeg:https://urbanmilwaukee.com/wp-content/uploads/2023/01/71B14A49-E0D4-4186-B7BD-9EE2446A76BD.jpeg
END:VEVENT
END:VCALENDAR