BEGIN:VCALENDAR
VERSION:2.0
PRODID:-//Urban Milwaukee - ECPv4.6.9//NONSGML v1.0//EN
CALSCALE:GREGORIAN
METHOD:PUBLISH
X-WR-CALNAME:Urban Milwaukee
X-ORIGINAL-URL:https://urbanmilwaukee.com
X-WR-CALDESC:Events for Urban Milwaukee
BEGIN:VEVENT
DTSTART;TZID=America/Chicago:20191203T170000
DTEND;TZID=America/Chicago:20191203T200000
DTSTAMP:20260423T110603
CREATED:20191009T005226Z
LAST-MODIFIED:20191009T005226Z
UID:477439-1575392400-1575403200@urbanmilwaukee.com
SUMMARY:An Evening to Promote Racial Justice
DESCRIPTION:YWCA Southeast Wisconsin (SEW) invites racial justice supporters and donors to attend the 15th Annual An Evening to Promote Racial Justice event on Tuesday\, December 3\, 2019 at the Marcus Center for Performing Arts from 5:00 – 8:00 p.m. This milestone anniversary features live music\, buffet reception\, awards ceremony and a riveting keynote presentation by award-winning NPR journalist\, Maria Hinojosa. \nBorn in Mexico City and raised in Chicago\, IL\, Hinojosa will bring to the podium her straightforward viewpoint on “Immigration and the Impact on Women & Families of Color.” \nVisit our website to purchase tickets to join us for this annual celebration! Don’t forget to nominate someone for the Empowering Women or Eliminating Racism awards. \nEvent Details:\n5:00 p.m. Welcome Reception\n6:00 p.m. Program (Awards and Keynote presentation)\n8:00 p.m. Dessert & Networking \n
URL:https://urbanmilwaukee.com/event/an-evening-to-promote-racial-justice/
LOCATION:929 N. Water St.\, Milwaukee\, WI\, 53202\, United States
CATEGORIES:Politics
ATTACH;FMTTYPE=image/png:https://urbanmilwaukee.com/wp-content/uploads/2019/10/Evening-to-Promote-RJ-Email-graphic.png
END:VEVENT
END:VCALENDAR