BEGIN:VCALENDAR
VERSION:2.0
PRODID:-//Urban Milwaukee - ECPv4.6.9//NONSGML v1.0//EN
CALSCALE:GREGORIAN
METHOD:PUBLISH
X-WR-CALNAME:Urban Milwaukee
X-ORIGINAL-URL:https://urbanmilwaukee.com
X-WR-CALDESC:Events for Urban Milwaukee
BEGIN:VEVENT
DTSTART;TZID=America/Chicago:20171004T130000
DTEND;TZID=America/Chicago:20171004T150000
DTSTAMP:20260423T220130
CREATED:20170920T191308Z
LAST-MODIFIED:20170920T191308Z
UID:367116-1507122000-1507129200@urbanmilwaukee.com
SUMMARY:An American Songbook Soirée
DESCRIPTION:Your favorites from Porter\, Kern\, Gershwin\, Mercer … and many more! Featuring the acclaimed trio of Jonathan Hawkins\, Heather Lundstedt O’Neill\, and Lee Lessack\, this afternoon of song is sure to leave audiences with unforgettable memories\, old and new. \nTouring extensively internationally\, Hawkins has been a featured soloist in Dvorák’s Stabat Mater\, Handel’s Messiah\, Mendelssohn’s Elijah\, and Fauré’s Requiem. For the last 10 years\, Lundstedt O’Neill has performed professionally all over the world. Broadway World stated\, “Lundstedt’s gorgeous soprano is one of the best I’ve heard onstage in a long time.” Lessack’s graceful lyric baritone vocals and sophisticated yet endearing persona have made him a shining star of the international concert scene. Billboard Magazine calls his singing\, “cabaret romanticism of a high order.” \n
URL:https://urbanmilwaukee.com/event/an-american-songbook-soiree/
CATEGORIES:Arts & Entertainment
ATTACH;FMTTYPE=image/jpeg:https://urbanmilwaukee.com/wp-content/uploads/2017/06/100417AmericanSongbookSoiree.jpg
END:VEVENT
END:VCALENDAR