BEGIN:VCALENDAR
VERSION:2.0
PRODID:-//Urban Milwaukee - ECPv4.6.9//NONSGML v1.0//EN
CALSCALE:GREGORIAN
METHOD:PUBLISH
X-WR-CALNAME:Urban Milwaukee
X-ORIGINAL-URL:https://urbanmilwaukee.com
X-WR-CALDESC:Events for Urban Milwaukee
BEGIN:VEVENT
DTSTART;TZID=America/Chicago:20180913T190000
DTEND;TZID=America/Chicago:20180913T220000
DTSTAMP:20260424T161259
CREATED:20180907T105752Z
LAST-MODIFIED:20180907T110030Z
UID:419776-1536865200-1536876000@urbanmilwaukee.com
SUMMARY:Amplified Artist Sessions Presents: Paladino
DESCRIPTION:Amplified Artist Sessions is proud to announce our all original music showcase for September 2018. \nSongwriters in the Round:\nWendy & Mike from Sunspot\nBill Peterson – Guitar Songs\nJon from Driveway Thriftdwellers \nFeatured Band: Paladino \nNo Cover // Music starts at 7 p.m. \nOriginal Artists take turns performing in the round for the first half of the evening\, followed by a headliner band to finish out the night. \n
URL:https://urbanmilwaukee.com/event/amplified-artist-sessions-presents-paladino/
LOCATION:17000 W. Capitol Dr.\, Brookfield\, WI\, 53005\, United States
CATEGORIES:Arts & Entertainment
ATTACH;FMTTYPE=image/jpeg:https://urbanmilwaukee.com/wp-content/uploads/2018/09/37085257_262518074326985_332837502761041920_o.jpg
END:VEVENT
END:VCALENDAR