BEGIN:VCALENDAR
VERSION:2.0
PRODID:-//Urban Milwaukee - ECPv4.6.9//NONSGML v1.0//EN
CALSCALE:GREGORIAN
METHOD:PUBLISH
X-WR-CALNAME:Urban Milwaukee
X-ORIGINAL-URL:https://urbanmilwaukee.com
X-WR-CALDESC:Events for Urban Milwaukee
BEGIN:VEVENT
DTSTART;TZID=America/Chicago:20260509T140000
DTEND;TZID=America/Chicago:20260509T163000
DTSTAMP:20260425T120035
CREATED:20250724T194338Z
LAST-MODIFIED:20250724T194338Z
UID:889240-1778335200-1778344200@urbanmilwaukee.com
SUMMARY:ALICE (in wonderland)
DESCRIPTION:Fall down the rabbit hole into ALICE (in wonderland)\, a family-friendly adventure full of iconic characters and jaw-dropping dance\, circus\, theater\, and puppetry. This vibrant delight promises something for all ages to enjoy! \n
URL:https://urbanmilwaukee.com/event/alice-in-wonderland-3/
LOCATION:929 N. Water St.\, Milwaukee\, WI\, 53202\, United States
CATEGORIES:Arts & Entertainment
ATTACH;FMTTYPE=image/png:https://urbanmilwaukee.com/wp-content/uploads/2025/07/5-6.png
END:VEVENT
END:VCALENDAR