BEGIN:VCALENDAR
VERSION:2.0
PRODID:-//Urban Milwaukee - ECPv4.6.9//NONSGML v1.0//EN
CALSCALE:GREGORIAN
METHOD:PUBLISH
X-WR-CALNAME:Urban Milwaukee
X-ORIGINAL-URL:https://urbanmilwaukee.com
X-WR-CALDESC:Events for Urban Milwaukee
BEGIN:VEVENT
DTSTART;TZID=America/Chicago:20251113T190000
DTEND;TZID=America/Chicago:20251113T210000
DTSTAMP:20260422T200604
CREATED:20250916T110452Z
LAST-MODIFIED:20250916T110452Z
UID:896554-1763060400-1763067600@urbanmilwaukee.com
SUMMARY:AfterDark: For the Culture
DESCRIPTION:AfterDark: For The Culture – A Night Celebrating Black and Brown Voices \nCome listen to some of Milwaukee’s favorite storytellers or drop your name for a chance to share an original poem or true\, personal story on “culture.” \nYou can also submit an UltraShort! These are short stories (a few sentences) on the night’s theme that the emcee reads on stage. (They can be anonymous!) \nHYFIN x Ex Fabula: connecting the culture through stories. We’re excited to see you. \nCost: Tickets are $12 in advance\, $15 at the door.\nLimited Pay-it-forward tickets available! \n
URL:https://urbanmilwaukee.com/event/afterdark-for-the-culture/
LOCATION:220 E. Pittsburgh Ave.\, Milwaukee\, WI\, 53204\, United States
CATEGORIES:Arts & Entertainment
ATTACH;FMTTYPE=image/png:https://urbanmilwaukee.com/wp-content/uploads/2025/08/Screenshot-2025-08-21-at-3.00.48 PM.png
END:VEVENT
END:VCALENDAR