BEGIN:VCALENDAR
VERSION:2.0
PRODID:-//Urban Milwaukee - ECPv4.6.9//NONSGML v1.0//EN
CALSCALE:GREGORIAN
METHOD:PUBLISH
X-WR-CALNAME:Urban Milwaukee
X-ORIGINAL-URL:https://urbanmilwaukee.com
X-WR-CALDESC:Events for Urban Milwaukee
BEGIN:VEVENT
DTSTART;TZID=America/Chicago:20170930T193000
DTEND;TZID=America/Chicago:20170930T213000
DTSTAMP:20260423T220357
CREATED:20170919T174258Z
LAST-MODIFIED:20170928T233956Z
UID:375201-1506799800-1506807000@urbanmilwaukee.com
SUMMARY:A Soulful Celebration: Cooke and Hathaway
DESCRIPTION:Milwaukee’s own\, Chris Crain\, presents A Soulful Tribute to the great Sam Cooke & Donny Hathaway. “This amazing show of artistry tells two very different stories that share a common thread that penetrates the soul” ~D. Blackburn. \nThe show not only offers an unequaled melodic experience saturated with love and passion\, but in a union of rhythm and lyrics it does something special to the mood of its listeners; waking a part of the conscious that most of us ignore. \nRounding out the cast is an all star cast of Milwaukee musicians making this a truly special tribute to the legendary Cooke and Hathaway. \n
URL:https://urbanmilwaukee.com/event/a-soulful-celebration-cooke-and-hathaway-2/
LOCATION:929 N. Water St.\, Milwaukee\, WI\, 53202\, United States
CATEGORIES:Arts & Entertainment
ATTACH;FMTTYPE=image/jpeg:https://urbanmilwaukee.com/wp-content/uploads/2017/09/IMG_1563-1-e1506641963963.jpg
END:VEVENT
END:VCALENDAR