BEGIN:VCALENDAR
VERSION:2.0
PRODID:-//Urban Milwaukee - ECPv4.6.9//NONSGML v1.0//EN
CALSCALE:GREGORIAN
METHOD:PUBLISH
X-WR-CALNAME:Urban Milwaukee
X-ORIGINAL-URL:https://urbanmilwaukee.com
X-WR-CALDESC:Events for Urban Milwaukee
BEGIN:VEVENT
DTSTART;TZID=America/Chicago:20241115T190000
DTEND;TZID=America/Chicago:20241115T200000
DTSTAMP:20260420T142015
CREATED:20241024T023547Z
LAST-MODIFIED:20241024T023547Z
UID:817535-1731697200-1731700800@urbanmilwaukee.com
SUMMARY:A Night in Greece
DESCRIPTION:A Night in Greece\nFridays\, November 15\, November 22\, December 6\n7pm to 8pm\n$6 General/$5 UWM Students \nJoin Planetarium Director Jean Creighton on a tour through her hometown\, Athens\, visiting her most beloved spots and hearing her favorite Greek myths. \nThis event is open to the public. The program will include an indoor stargazing session of the night sky followed by the opportunity to ask questions. Not recommended for children under 4. \nTickets: https://bit.ly/3WYg2y6 \n
URL:https://urbanmilwaukee.com/event/a-night-in-greece/
LOCATION:1900 E .Kenwood Blvd.\, Milwaukee\, WI\, 53211\, United States
CATEGORIES:Arts & Entertainment,Kids
ATTACH;FMTTYPE=image/png:https://urbanmilwaukee.com/wp-content/uploads/2024/10/Night-in-Greece_16x9-2-BANNER.png
END:VEVENT
END:VCALENDAR