BEGIN:VCALENDAR
VERSION:2.0
PRODID:-//Urban Milwaukee - ECPv4.6.9//NONSGML v1.0//EN
CALSCALE:GREGORIAN
METHOD:PUBLISH
X-WR-CALNAME:Urban Milwaukee
X-ORIGINAL-URL:https://urbanmilwaukee.com
X-WR-CALDESC:Events for Urban Milwaukee
BEGIN:VEVENT
DTSTART;TZID=America/Chicago:20191101T123000
DTEND;TZID=America/Chicago:20191101T133000
DTSTAMP:20260424T163103
CREATED:20191025T015544Z
LAST-MODIFIED:20191025T015544Z
UID:481295-1572611400-1572615000@urbanmilwaukee.com
SUMMARY:A Hoppy Birthday!
DESCRIPTION:The Hop\, presented by Potawatomi Hotel & Casino\, is inviting the entire community to join together to celebrate the culmination of a historic first year of service. The streetcar system has already welcomed over 750\,000 riders since the Nov. 2\, 2018 launch\, providing new connections for residents and visitors alike to countless Milwaukee residential\, employment and entertainment destinations. \nTo help wish the system a very hoppy birthday\, the community is invited to gather in Cathedral Square Park next Friday\, Nov. 1 from 12:30 to 1:30 p.m. After remarks from Mayor Tom Barrett and Potawatomi Hotel & Casino’s CEO Rodney Ferguson to highlight and celebrate a successful first year of service\, guests will be treated to free birthday cake and cupcakes\, coffee and hot chocolate courtesy of the Potawatomi Hotel & Casino’s Pastry Team\, Classy Girl Cupcakes and Colectivo Coffee. 88Nine Radio Milwaukee’s Dori Zori will also be on hand spinning music\, while The Hop tent will be set up with free Hop stickers\, buttons and a limited number of free T-shirts. \nSee you there! \n
URL:https://urbanmilwaukee.com/event/a-hoppy-birthday/
LOCATION:520 E. Wells St.\, Milwaukee\, WI\, United States
CATEGORIES:Arts & Entertainment
ATTACH;FMTTYPE=image/png:https://urbanmilwaukee.com/wp-content/uploads/2019/10/HoppyBirthday_Email_Invite_V4-01.png
END:VEVENT
END:VCALENDAR