BEGIN:VCALENDAR
VERSION:2.0
PRODID:-//Urban Milwaukee - ECPv4.6.9//NONSGML v1.0//EN
CALSCALE:GREGORIAN
METHOD:PUBLISH
X-WR-CALNAME:Urban Milwaukee
X-ORIGINAL-URL:https://urbanmilwaukee.com
X-WR-CALDESC:Events for Urban Milwaukee
BEGIN:VEVENT
DTSTART;TZID=America/Chicago:20190120T170000
DTEND;TZID=America/Chicago:20190120T190000
DTSTAMP:20260423T014551
CREATED:20181128T214031Z
LAST-MODIFIED:20181128T214031Z
UID:430961-1548003600-1548010800@urbanmilwaukee.com
SUMMARY:A Dance with Death
DESCRIPTION:The Experts in Mystery Entertainment are now performing live public and private interactive murder mystery dinner shows in Milwaukee and surrounding areas throughout Wisconsin. Join us for a night of intrigue\, deception\, and delicious food in this comedic thriller! \n
URL:https://urbanmilwaukee.com/event/a-dance-with-death/
LOCATION:924 E. Juneau Ave.\, Milwaukee\, WI\, 53202\, United States
CATEGORIES:Arts & Entertainment
ATTACH;FMTTYPE=image/jpeg:https://urbanmilwaukee.com/wp-content/uploads/2018/11/DancewDeath.jpg
END:VEVENT
END:VCALENDAR