BEGIN:VCALENDAR
VERSION:2.0
PRODID:-//Urban Milwaukee - ECPv4.6.9//NONSGML v1.0//EN
CALSCALE:GREGORIAN
METHOD:PUBLISH
X-WR-CALNAME:Urban Milwaukee
X-ORIGINAL-URL:https://urbanmilwaukee.com
X-WR-CALDESC:Events for Urban Milwaukee
BEGIN:VEVENT
DTSTART;TZID=America/Chicago:20221207T190000
DTEND;TZID=America/Chicago:20221207T210000
DTSTAMP:20260420T001044
CREATED:20221206T205840Z
LAST-MODIFIED:20221206T205840Z
UID:692193-1670439600-1670446800@urbanmilwaukee.com
SUMMARY:A Christmas Carol
DESCRIPTION:The Milwaukee Repertory Theater is putting on a performance of “A Christmas Carol” — one of the best-known and loved stories in the English language. During the course of one memorable Christmas Eve\, the ghosts of Christmas Past\, Present and Future help Scrooge discover that it is never too late to change his miserly ways. Enchanting music\, dance\, costumes\, scenery and special effects will once again fill the theater to tell this timeless tale of love\, hope and redemption. \n“A Christmas Carol” runs from November 29 through December 24\, 2022. To purchase tickets\, visit milwaukeerep.com/shows/show/a-christmas-carol. \nBy Charles Dickens \nAdapted & Directed by Mark Clements \n
URL:https://urbanmilwaukee.com/event/a-christmas-carol-35/
LOCATION:144 E. Wells St.\, Milwaukee\, WI\, 53202
CATEGORIES:Arts & Entertainment
ATTACH;FMTTYPE=image/png:https://urbanmilwaukee.com/wp-content/uploads/2022/12/ACC-1200x900-2.png
END:VEVENT
END:VCALENDAR