BEGIN:VCALENDAR
VERSION:2.0
PRODID:-//Urban Milwaukee - ECPv4.6.9//NONSGML v1.0//EN
CALSCALE:GREGORIAN
METHOD:PUBLISH
X-WR-CALNAME:Urban Milwaukee
X-ORIGINAL-URL:https://urbanmilwaukee.com
X-WR-CALDESC:Events for Urban Milwaukee
BEGIN:VEVENT
DTSTART;TZID=America/Chicago:20251126T190000
DTEND;TZID=America/Chicago:20251126T211000
DTSTAMP:20260420T064903
CREATED:20250709T225410Z
LAST-MODIFIED:20250709T225410Z
UID:885266-1764183600-1764191400@urbanmilwaukee.com
SUMMARY:A Christmas Carol
DESCRIPTION:For decades Wisconsinites have enjoyed A Christmas Carol as their favorite holiday tradition. Now join us as we celebrate our 50th Anniversary production of this Dickens’ classic. Experience the magic of this beloved tale as Ebenezer Scrooge’s heartwarming transformation inspires holiday cheer with the timeless message of peace\, hope and joy. With beautiful music\, lively dancing\, stunning sets and eye-popping special effects\, it’s a dazzling Christmas feast with enough theatrical goodies to fill any sized stocking hung by the chimney with care. Rep favorite Matt Daniels returns as Scrooge. \n“Matt Daniels is nothing short of extraordinary as the iconic Ebenezer Scrooge.”\n– BroadwayWorld \nBy Charles Dickens\nAdapted and Directed by Mark Clements \nTickets: Starting at $25 \n
URL:https://urbanmilwaukee.com/event/a-christmas-carol-140/
LOCATION:144 E. Wells St.\, Milwaukee\, WI\, 53202
CATEGORIES:Arts & Entertainment
ATTACH;FMTTYPE=image/jpeg:https://urbanmilwaukee.com/wp-content/uploads/2025/07/ACC_2526-Listings_Urban-Milwaukee_1200x630-1.jpg
END:VEVENT
END:VCALENDAR