BEGIN:VCALENDAR
VERSION:2.0
PRODID:-//Urban Milwaukee - ECPv4.6.9//NONSGML v1.0//EN
CALSCALE:GREGORIAN
METHOD:PUBLISH
X-WR-CALNAME:Urban Milwaukee
X-ORIGINAL-URL:https://urbanmilwaukee.com
X-WR-CALDESC:Events for Urban Milwaukee
BEGIN:VEVENT
DTSTART;TZID=America/Chicago:20191205T193000
DTEND;TZID=America/Chicago:20191205T193000
DTSTAMP:20260422T224347
CREATED:20191009T013340Z
LAST-MODIFIED:20191009T013340Z
UID:477821-1575574200-1575574200@urbanmilwaukee.com
SUMMARY:A Christmas Carol
DESCRIPTION:The Rep’s hit new adaptation is a tale of love\, hope and redemption with just the right blend of beautiful music\, lively dancing\, stunning sets and eye-popping special effects. It’s a dazzling Christmas feast with enough theatrical goodies to fill any sized stocking hung by the chimney with care. Join Bob Cratchit\, Tiny Tim and Scrooge in this holiday classic the whole family will love. \nFor updated pricing visit our website www.MilwaukeeRep.com \n
URL:https://urbanmilwaukee.com/event/a-christmas-carol-10/
LOCATION:144 E. Wells St.\, Milwaukee\, WI\, 53202
CATEGORIES:Arts & Entertainment
ATTACH;FMTTYPE=image/jpeg:https://urbanmilwaukee.com/wp-content/uploads/2019/07/MRT1819_ACC_800x400-004.jpg
END:VEVENT
END:VCALENDAR