BEGIN:VCALENDAR
VERSION:2.0
PRODID:-//Urban Milwaukee - ECPv4.6.9//NONSGML v1.0//EN
CALSCALE:GREGORIAN
METHOD:PUBLISH
X-WR-CALNAME:Urban Milwaukee
X-ORIGINAL-URL:https://urbanmilwaukee.com
X-WR-CALDESC:Events for Urban Milwaukee
BEGIN:VEVENT
DTSTART;VALUE=DATE:20201102
DTEND;VALUE=DATE:20201123
DTSTAMP:20260424T203801
CREATED:20201015T214554Z
LAST-MODIFIED:20201015T224716Z
UID:547595-1604275200-1606089599@urbanmilwaukee.com
SUMMARY:The Girl Who Swallowed a Cactus-In your home!
DESCRIPTION:School is out. Which is great except…there’s nothing to do. Sound familiar? And like you\, Sheila and her friends are searching for something interesting to explore. What happens next? A walking\, talking\, and surprisingly well-dressed coyote shows up and the kids find themselves on the adventure of a lifetime! It’s exciting! It’s funny! It’s magical! \nFamilies with young people ages 7 – 15+ will love this innovative\, streamable production – made just for you! \n
URL:https://urbanmilwaukee.com/event/__trashed-9/
CATEGORIES:Arts & Entertainment,Virtual
ATTACH;FMTTYPE=image/jpeg:https://urbanmilwaukee.com/wp-content/uploads/2020/09/Cactus_Square.jpg
END:VEVENT
END:VCALENDAR