BEGIN:VCALENDAR
VERSION:2.0
PRODID:-//Urban Milwaukee - ECPv4.6.9//NONSGML v1.0//EN
CALSCALE:GREGORIAN
METHOD:PUBLISH
X-WR-CALNAME:Urban Milwaukee
X-ORIGINAL-URL:https://urbanmilwaukee.com
X-WR-CALDESC:Events for Urban Milwaukee
BEGIN:VEVENT
DTSTART;VALUE=DATE:20161001
DTEND;VALUE=DATE:20161002
DTSTAMP:20260425T022350
CREATED:20160915T104728Z
LAST-MODIFIED:20160915T104728Z
UID:183457-1475280000-1475366399@urbanmilwaukee.com
SUMMARY:8th Annual Milwaukee Ukulele Festival
DESCRIPTION:“All things Ukulele” will be celebrated at the 8th Annual Milwaukee Ukulele Festival at the Sunset Playhouse in Elm Grove on Saturday October 1st. The festival is a full day of workshops\, vendors\, and demonstrations beginning at 10 a.m. The evening festival\, which is open to the general public\, begins at 7 p.m. The event will have World Class Talent from right here in the Midwest and nationally recognized players. This year’s lineup includes: Bucky Halker\, Guy Fiorentini\, The Milwaukee Ukulele Club and Friends\, Richard Ash\, Lil’ Rev\, Spencer & Raines\, Seeso\, Michael Bootzin\, Danielle Ate the Sandwich\, and Matt Lindahl. Jamming\, Workshops\, Dinner hour concert\, raffle\, evening concert and post fest party are all planned. \n
URL:https://urbanmilwaukee.com/event/8th-annual-milwaukee-ukulele-festival/
CATEGORIES:Arts & Entertainment
ATTACH;FMTTYPE=image/jpeg:https://urbanmilwaukee.com/wp-content/uploads/2016/09/UKE-FEST-PHOTO-2014.jpg
END:VEVENT
END:VCALENDAR