BEGIN:VCALENDAR
VERSION:2.0
PRODID:-//Urban Milwaukee - ECPv4.6.9//NONSGML v1.0//EN
CALSCALE:GREGORIAN
METHOD:PUBLISH
X-WR-CALNAME:Urban Milwaukee
X-ORIGINAL-URL:https://urbanmilwaukee.com
X-WR-CALDESC:Events for Urban Milwaukee
BEGIN:VEVENT
DTSTART;TZID=America/Chicago:20171004T190000
DTEND;TZID=America/Chicago:20171004T200000
DTSTAMP:20260423T215521
CREATED:20170925T130831Z
LAST-MODIFIED:20170925T130831Z
UID:376473-1507143600-1507147200@urbanmilwaukee.com
SUMMARY:60 Years of Sputnik
DESCRIPTION:Celebrate the 60th anniversary of Sputnik’s launch as it took its place among the stars as the world’s first manmade satellite. We remember its role in the Space Race as Sputnik sent back information that provided the foundation for future artificial satellites and the dawn of the Space Age. \n
URL:https://urbanmilwaukee.com/event/60-years-of-sputnik/
LOCATION:1900 E .Kenwood Blvd.\, Milwaukee\, WI\, 53211\, United States
CATEGORIES:Arts & Entertainment
ATTACH;FMTTYPE=image/png:https://urbanmilwaukee.com/wp-content/uploads/2017/09/sputnik-spingo.png
END:VEVENT
END:VCALENDAR