BEGIN:VCALENDAR
VERSION:2.0
PRODID:-//Urban Milwaukee - ECPv4.6.9//NONSGML v1.0//EN
CALSCALE:GREGORIAN
METHOD:PUBLISH
X-WR-CALNAME:Urban Milwaukee
X-ORIGINAL-URL:https://urbanmilwaukee.com
X-WR-CALDESC:Events for Urban Milwaukee
BEGIN:VEVENT
DTSTART;TZID=America/Chicago:20240127T190000
DTEND;TZID=America/Chicago:20240127T220000
DTSTAMP:20260420T035803
CREATED:20240105T064949Z
LAST-MODIFIED:20240105T064949Z
UID:758122-1706382000-1706392800@urbanmilwaukee.com
SUMMARY:3rd Annual Bluegrass Winter Heater feat. The MilBillies + Special Guests
DESCRIPTION:Join Anodyne Coffee Roasting Co. for the 3rd Annual Bluegrass Winter Heater featuring Valley Fox\, Dig Deep\, The Spooklights and The Milbillies! \nValley Fox \nA new Americana project out of Milwaukee\, Wisconsin from Joe Wais and Laura Bomber. \nDig Deep \nHard-driving string band music from the heart of Wisconsin. \nThe Spooklights \nThe Spooklights (formerly MK Ultra) is a unique collaboration of Ben Miller (Ben Miller Band) and Pat Kay (The Kay Brothers) born out of the great pandemic. You see…here’s what happens when two fellas like this spend too much time in their shops and start playing “I’ll show you mine if you show me yours.” Miller & Kay\, both renowned torchbearers for Ozark mountain music tradition heretofore\, have basically built themselves some kind of jangle-stomp-time machine. \nThe MilBillies \nWAMI nominated New Artist of the Year (2020)\, IBMA Showcase Artist (2021)\, and John Hartford Memorial Festival Band Contest Winners (2022)\, The MilBillies are a 5-piece string band slinging high-energy bluegrass. \n
URL:https://urbanmilwaukee.com/event/3rd-annual-bluegrass-winter-heater-feat-the-milbillies-special-guests/
LOCATION:Select a Country:
CATEGORIES:Arts & Entertainment
ATTACH;FMTTYPE=image/jpeg:https://urbanmilwaukee.com/wp-content/uploads/2021/11/dsc01852.jpg
END:VEVENT
END:VCALENDAR