BEGIN:VCALENDAR
VERSION:2.0
PRODID:-//Urban Milwaukee - ECPv4.6.9//NONSGML v1.0//EN
CALSCALE:GREGORIAN
METHOD:PUBLISH
X-WR-CALNAME:Urban Milwaukee
X-ORIGINAL-URL:https://urbanmilwaukee.com
X-WR-CALDESC:Events for Urban Milwaukee
BEGIN:VEVENT
DTSTART;TZID=America/Chicago:20191105T103000
DTEND;TZID=America/Chicago:20191105T133000
DTSTAMP:20260424T102310
CREATED:20190805T015238Z
LAST-MODIFIED:20190805T015238Z
UID:467960-1572949800-1572960600@urbanmilwaukee.com
SUMMARY:37th Annual WMACC Couture for a Cure Fashion Show
DESCRIPTION:Through partnership with premier boutique\, Gigi\, this year’s runway show will feature signature fashions from internationally-renowned designer Peter Langner\, a name synonymous with excellence\, imagination and refinement. This elite event will also showcase curated designer fashions from Repurpose\, a unique\, New York-based shop known for marrying sustainable fashion with fundraising. A dazzling silent auction\, exquisite wine pull and other delights also await attendees of this exclusive event. \n
URL:https://urbanmilwaukee.com/event/37th-annual-wmacc-couture-for-a-cure-fashion-show/
CATEGORIES:Arts & Entertainment
ATTACH;FMTTYPE=image/png:https://urbanmilwaukee.com/wp-content/uploads/2019/08/WMACC-logo.png
END:VEVENT
END:VCALENDAR