BEGIN:VCALENDAR
VERSION:2.0
PRODID:-//Urban Milwaukee - ECPv4.6.9//NONSGML v1.0//EN
CALSCALE:GREGORIAN
METHOD:PUBLISH
X-WR-CALNAME:Urban Milwaukee
X-ORIGINAL-URL:https://urbanmilwaukee.com
X-WR-CALDESC:Events for Urban Milwaukee
BEGIN:VEVENT
DTSTART;TZID=America/Chicago:20170115T130000
DTEND;TZID=America/Chicago:20170115T180000
DTSTAMP:20260424T070159
CREATED:20161108T181155Z
LAST-MODIFIED:20161108T181155Z
UID:189443-1484485200-1484503200@urbanmilwaukee.com
SUMMARY:33rd Annual Dr. Martin Luther King\, Jr. Birthday Celebration
DESCRIPTION:The only cities that have celebrated Dr. King’s Birthday annually since 1984 are Atlanta\, Georgia and Milwaukee\, Wisconsin. Always taking place in the month of January\, this event focuses on keeping the legacy of Dr. Martin Luther King Jr. alive. The Dr. Martin Luther King\, Jr. Birthday Celebration programming highlights the youth in our community who every year interpret Dr. King’s words through an art\, speech and writing contest. \nIn addition\, various cultural arts organizations take center stage in Uihlein Hall\, truly demonstrating the excellence of our arts community. Some of the groups celebrating with us this year include The Milwaukee Flyers Tumbling Team\, Malik Johnson\, Hip Hop Cellist from the Boys & Girls Club of Greater Milwaukee\, and more! The event concludes with the Paulette Y. Copeland Reception in Bradley Pavilion. \nThe theme for this year is: “We Shall Overcome” \n
URL:https://urbanmilwaukee.com/event/33rd-annual-dr-martin-luther-king-jr-birthday-celebration/
LOCATION:929 N. Water St.\, Milwaukee\, WI\, 53202\, United States
CATEGORIES:Arts & Entertainment
ATTACH;FMTTYPE=image/jpeg:https://urbanmilwaukee.com/wp-content/uploads/2016/11/33rd-annual-dr-martin-luther-king-jr-birthday-celebration-show-detail.jpg
END:VEVENT
END:VCALENDAR