BEGIN:VCALENDAR
VERSION:2.0
PRODID:-//Urban Milwaukee - ECPv4.6.9//NONSGML v1.0//EN
CALSCALE:GREGORIAN
METHOD:PUBLISH
X-WR-CALNAME:Urban Milwaukee
X-ORIGINAL-URL:https://urbanmilwaukee.com
X-WR-CALDESC:Events for Urban Milwaukee
BEGIN:VEVENT
DTSTART;TZID=America/Chicago:20170126T180000
DTEND;TZID=America/Chicago:20170126T220000
DTSTAMP:20260424T010946
CREATED:20170119T175246Z
LAST-MODIFIED:20170119T175246Z
UID:197653-1485453600-1485468000@urbanmilwaukee.com
SUMMARY:22nd Annual Puttin' on the Ritz
DESCRIPTION:Experience the glitz and glamour as you head over to Potawatomi Hotel & Casino for the Zoological Society of Milwaukee’s 22nd annual Puttin’ on the Ritz fundraiser. Enjoy a night of gourmet food\, drinks\, a live voice auction and amateur boxing arranged by the Future Olympian Boxing Association. Boxing bouts are sponsored by Master Z’s\, and the boxing ring is sponsored by Bridgewood Advisors. \nLast year’s event raised over $201\,000 for the Zoological Society and its support of the Milwaukee County Zoo. \nCost: $200 per person\, $2\,000 for a corporate table sponsorship or $3\,000 for a corporate ringside table sponsorship* (includes 5.6 percent WI sales tax). \n
URL:https://urbanmilwaukee.com/event/22nd-annual-puttin-on-the-ritz/
LOCATION:1721 W. Canal St.\, Milwaukee\, WI\, 53211\, United States
CATEGORIES:Food & Drink
ATTACH;FMTTYPE=image/jpeg:https://urbanmilwaukee.com/wp-content/uploads/2017/01/Ritz-2.jpg
END:VEVENT
END:VCALENDAR