BEGIN:VCALENDAR
VERSION:2.0
PRODID:-//Urban Milwaukee - ECPv4.6.9//NONSGML v1.0//EN
CALSCALE:GREGORIAN
METHOD:PUBLISH
X-WR-CALNAME:Urban Milwaukee
X-ORIGINAL-URL:https://urbanmilwaukee.com
X-WR-CALDESC:Events for Urban Milwaukee
BEGIN:VEVENT
DTSTART;VALUE=DATE:20241030
DTEND;VALUE=DATE:20241031
DTSTAMP:20260422T183809
CREATED:20241016T115610Z
LAST-MODIFIED:20241016T115610Z
UID:808263-1730246400-1730332799@urbanmilwaukee.com
SUMMARY:21st Annual sySTEMnow Conference
DESCRIPTION:The 21st Annual sySTEMnow is southeastern Wisconsin’s preeminent STEM education and talent development conference. It brings together business\, education\, and the community to share inspiration and best practices. This conference includes two keynote speakers\, multiple round breakout sessions\, K-12 STEM displays\, a luncheon\, and more. \nAdditional details can be found at https://www.stemforward.org/systemnow-conference. \n
URL:https://urbanmilwaukee.com/event/21st-annual-systemnow-conference/
LOCATION:631 E. Chicago St.\, Milwaukee\, WI\, 53202\, United States
CATEGORIES:Business,Kids,Tech
ATTACH;FMTTYPE=image/png:https://urbanmilwaukee.com/wp-content/uploads/2024/09/2024-sySTEMnow-Conference-Theme-Image-1-1.png
END:VEVENT
END:VCALENDAR