BEGIN:VCALENDAR
VERSION:2.0
PRODID:-//Urban Milwaukee - ECPv4.6.9//NONSGML v1.0//EN
CALSCALE:GREGORIAN
METHOD:PUBLISH
X-WR-CALNAME:Urban Milwaukee
X-ORIGINAL-URL:https://urbanmilwaukee.com
X-WR-CALDESC:Events for Urban Milwaukee
BEGIN:VEVENT
DTSTART;TZID=America/Chicago:20190625T170000
DTEND;TZID=America/Chicago:20190625T200000
DTSTAMP:20260420T133218
CREATED:20190611T121819Z
LAST-MODIFIED:20190611T121819Z
UID:458960-1561482000-1561492800@urbanmilwaukee.com
SUMMARY:2019 Marquette Athletics Backyard BBQ
DESCRIPTION:Join Marquette Athletics at this annual summer celebration. Enjoy delicious food\, children’s games and interactive activities hosted by the student-athletes and coaches from each of the varsity teams. \nRegister by June 17 to be entered into a drawing for an exclusive Marquette Summer Gear Prize Package! \nTuesday\, June 25\, 2019\n5 p.m. to 8 p.m.\n(program begins at 7 p.m.) \n$20 per person/children 12 and under are FREE\nPrice will increase to $25 per person after Monday\, June 17\nPlease note that a portion of the registration fee is considered a non-refundable\, tax-deductible gift to Marquette’s Ignatian Promise Scholarship Initiative. \nRegister by Monday\, June 17 at GoMarquette.com/BBQ or to University Special Events at 414-288-7431 or universityspecialevents@marquette.edu. \nEvent will take place rain or shine \nFor questions or special needs contact University Special Events at 414-288-7431 \n
URL:https://urbanmilwaukee.com/event/2019-marquette-athletics-backyard-bbq/
LOCATION:1442 W. Wisconsin Ave.\, Milwaukeee\, WI\, 53233\, United States
CATEGORIES:Arts & Entertainment,Food & Drink
ATTACH;FMTTYPE=image/png:https://urbanmilwaukee.com/wp-content/uploads/2019/06/MonoBanr.png
END:VEVENT
END:VCALENDAR