BEGIN:VCALENDAR
VERSION:2.0
PRODID:-//Urban Milwaukee - ECPv4.6.9//NONSGML v1.0//EN
CALSCALE:GREGORIAN
METHOD:PUBLISH
X-WR-CALNAME:Urban Milwaukee
X-ORIGINAL-URL:https://urbanmilwaukee.com
X-WR-CALDESC:Events for Urban Milwaukee
BEGIN:VEVENT
DTSTART;TZID=America/Chicago:20190622T163000
DTEND;TZID=America/Chicago:20190622T230000
DTSTAMP:20260420T061757
CREATED:20190615T132838Z
LAST-MODIFIED:20190615T132838Z
UID:456104-1561221000-1561244400@urbanmilwaukee.com
SUMMARY:2019 Footlights People's Choice Awards
DESCRIPTION:Come celebrate another amazing season of the performing arts with us! Now in its third year\, the Footlights People’s Choice Awards is a mix of award recognition and live performances. \nHosted by local comedian and producer Matt Kemple\, the evening will recognize both professional and non-professional artists and companies. \nThe big night will kick off with a Red Carpet Photo Hour and VIP Pre-Party\, featuring entertainment by Broadway veterans Andrew Varela and Susan Varela plus hors d’oeuvres from Skyline Catering. \nFollowing the ceremony\, we will be hosting our largest after party yet taking over the entire Wilson Center. Classy Girl Cupcakes\, Thunder Bay Grille\, Moe’s Southwest Grille and free wine from Cooper’s Hawk Winery & Restaurant will be offered in the Kuttemperoor Grand Hall\, with entertainment outside in the beautiful Burke Colonnade. \nSpecial thanks to our sponsors Sharon Lynne Wilson Center for the Arts and Cooper’s Hawk Winery & Restaurant in Brookfield! \n
URL:https://urbanmilwaukee.com/event/2019-footlights-peoples-choice-awards/
LOCATION:19805 W. Capitol Dr.\, Brookfield\, WI\, 53045\, United States
CATEGORIES:Arts & Entertainment
ATTACH;FMTTYPE=image/jpeg:https://urbanmilwaukee.com/wp-content/uploads/2019/05/2019Awards-FBEventBanner.jpg
END:VEVENT
END:VCALENDAR