BEGIN:VCALENDAR
VERSION:2.0
PRODID:-//Urban Milwaukee - ECPv4.6.9//NONSGML v1.0//EN
CALSCALE:GREGORIAN
METHOD:PUBLISH
X-WR-CALNAME:Urban Milwaukee
X-ORIGINAL-URL:https://urbanmilwaukee.com
X-WR-CALDESC:Events for Urban Milwaukee
BEGIN:VEVENT
DTSTART;TZID=America/Chicago:20251004T120000
DTEND;TZID=America/Chicago:20251004T160000
DTSTAMP:20260421T071114
CREATED:20250730T172643Z
LAST-MODIFIED:20250730T172643Z
UID:890697-1759579200-1759593600@urbanmilwaukee.com
SUMMARY:14th Annual Lost Arts Festival
DESCRIPTION:The event will celebrate the activities and ways of work captured in the paintings and bronzes in the Grohmann Museum’s permanent collection. In past years\, we’ve been thrilled to showcase a shoecarver\, glass founder\, woodworker\, spinners\, and master painters who all share their expertise and demonstrate their techniques as the Grohmann Museum becomes a laboratory for the creation of Lost Arts. \n
URL:https://urbanmilwaukee.com/event/14th-annual-lost-arts-festival/
LOCATION:1000 N. Broadway\, Milwaukee\, WI\, 53202\, United States
ATTACH;FMTTYPE=image/png:https://urbanmilwaukee.com/wp-content/uploads/2025/07/Lost-Arts-Poster-2025-final.png
END:VEVENT
END:VCALENDAR