BEGIN:VCALENDAR
VERSION:2.0
PRODID:-//Urban Milwaukee - ECPv4.6.9//NONSGML v1.0//EN
CALSCALE:GREGORIAN
METHOD:PUBLISH
X-WR-CALNAME:Urban Milwaukee
X-ORIGINAL-URL:https://urbanmilwaukee.com
X-WR-CALDESC:Events for Urban Milwaukee
BEGIN:VEVENT
DTSTART;TZID=America/Chicago:20161008T100000
DTEND;TZID=America/Chicago:20161008T120000
DTSTAMP:20260424T040942
CREATED:20160901T095145Z
LAST-MODIFIED:20160901T095145Z
UID:177501-1475920800-1475928000@urbanmilwaukee.com
SUMMARY:12th Annual Panther Prowl 5K
DESCRIPTION:The Panther Prowl 5K is UW-Milwaukee’s premier race event. All proceeds support UWM student scholarships. We hope you will join us for the 12th Annual event and participate in this long-standing tradition at the University of Wisconsin-Milwaukee. Registration fee includes a short-sleeved technical shirt\, race bib\, and entertainment. Stop by the Sponsor Zone area after the race to sample snacks and beverages from local Milwaukee businesses. We look forward to seeing you at the starting line! \n
URL:https://urbanmilwaukee.com/event/12th-annual-panther-prowl-5k/
CATEGORIES:Arts & Entertainment,Food & Drink
ATTACH;FMTTYPE=image/jpeg:https://urbanmilwaukee.com/wp-content/uploads/2016/07/prowl16.jpg
END:VEVENT
END:VCALENDAR